BEGIN:VCALENDAR
VERSION:2.0
CREATED:20260423T153736Z
PRODID:-//Chimera Investment Corporation/Equisolve Calendar v1.0//EN
METHOD:PUBLISH
BEGIN:VEVENT
UID:6a2dad830429c0a3c3599f7ae678b7ec
DTSTAMP:20260424T113308Z
DTSTART:20260507T123000Z
DTEND:20260507T133000Z
SUMMARY:Chimera Investment Corp. First Quarter 2026 Earnings Conference Call
DESCRIPTION:Chimera Investment Corp. First Quarter 2026 Earnings Conference Call\nDate: May 7\, 2026 8:30 am EDT\nWebcast: https://event.choruscall.com/mediaframe/webcast.html?webcastid=MrRzuEN2
END:VEVENT
END:VCALENDAR
